BEGIN:VCALENDAR
VERSION:2.0
PRODID:-//Kreativer Kreis Allershausen e.V. - ECPv6.15.20//NONSGML v1.0//EN
CALSCALE:GREGORIAN
METHOD:PUBLISH
X-WR-CALNAME:Kreativer Kreis Allershausen e.V.
X-ORIGINAL-URL:https://kreativer-kreis-allershausen.de
X-WR-CALDESC:Veranstaltungen für Kreativer Kreis Allershausen e.V.
REFRESH-INTERVAL;VALUE=DURATION:PT1H
X-Robots-Tag:noindex
X-PUBLISHED-TTL:PT1H
BEGIN:VTIMEZONE
TZID:Europe/Berlin
BEGIN:DAYLIGHT
TZOFFSETFROM:+0100
TZOFFSETTO:+0200
TZNAME:CEST
DTSTART:20240331T010000
END:DAYLIGHT
BEGIN:STANDARD
TZOFFSETFROM:+0200
TZOFFSETTO:+0100
TZNAME:CET
DTSTART:20241027T010000
END:STANDARD
BEGIN:DAYLIGHT
TZOFFSETFROM:+0100
TZOFFSETTO:+0200
TZNAME:CEST
DTSTART:20250330T010000
END:DAYLIGHT
BEGIN:STANDARD
TZOFFSETFROM:+0200
TZOFFSETTO:+0100
TZNAME:CET
DTSTART:20251026T010000
END:STANDARD
BEGIN:DAYLIGHT
TZOFFSETFROM:+0100
TZOFFSETTO:+0200
TZNAME:CEST
DTSTART:20260329T010000
END:DAYLIGHT
BEGIN:STANDARD
TZOFFSETFROM:+0200
TZOFFSETTO:+0100
TZNAME:CET
DTSTART:20261025T010000
END:STANDARD
END:VTIMEZONE
BEGIN:VEVENT
DTSTART;VALUE=DATE:20250116
DTEND;VALUE=DATE:20250308
DTSTAMP:20260419T183141
CREATED:20250105T140819Z
LAST-MODIFIED:20250607T160200Z
UID:2977-1736985600-1741391999@kreativer-kreis-allershausen.de
SUMMARY:Kunstpreis Ampertal & Förderpreis für junge Nachwuchskünstler
DESCRIPTION:Der Kunstpreis trägt dazu bei\, die regionale kreative Schaffenskraft zu erkennen\, sichtbar zu machen und wertzuschätzen.\n\n\nDie Auszeichnung soll Kreativität\, handwerklich-technisches Können und Kontinuität belohnen und Mut machen\, den persönlichen Weg weiterzugehen. \n\nDer „Chun Wha Krauthäuser – Förderpreis“ für den künstlerischen Nachwuchs im Alter von 16 bis 30 Jahre. Eine Förderung junger talentierter Künstler:innen. \n\nDie Vernissage findet am 17. Januar 2025 um 18.30 Uhr im Rathaus Zolloing statt. Sie sind recht herzlich hierzu eingeladen.
URL:https://kreativer-kreis-allershausen.de/event/kunstpreis-ampertal/
LOCATION:Rathaus Zolling\, Rathausplatz 1\, 85406 Zolling\, Bayern\, Deutschland
CATEGORIES:Kunst im Rathaus,Kunstpreis Ampertal
ATTACH;FMTTYPE=application/pdf:https://kreativer-kreis-allershausen.de/wp-content/uploads/2025/01/Kunstpreis-Ampertal-Plakat-zur-Ausstellung-Kopie-Einzel_compressed.pdf
ORGANIZER;CN="Kreativer Kreis Allershausen e.V.":MAILTO:kontakt@kreativer-kreis-allershausen.de
END:VEVENT
END:VCALENDAR