BEGIN:VCALENDAR
VERSION:2.0
PRODID:-//Kreativer Kreis Allershausen e.V. - ECPv6.15.20//NONSGML v1.0//EN
CALSCALE:GREGORIAN
METHOD:PUBLISH
X-ORIGINAL-URL:https://kreativer-kreis-allershausen.de
X-WR-CALDESC:Veranstaltungen für Kreativer Kreis Allershausen e.V.
REFRESH-INTERVAL;VALUE=DURATION:PT1H
X-Robots-Tag:noindex
X-PUBLISHED-TTL:PT1H
BEGIN:VTIMEZONE
TZID:Europe/Berlin
BEGIN:DAYLIGHT
TZOFFSETFROM:+0100
TZOFFSETTO:+0200
TZNAME:CEST
DTSTART:20230326T010000
END:DAYLIGHT
BEGIN:STANDARD
TZOFFSETFROM:+0200
TZOFFSETTO:+0100
TZNAME:CET
DTSTART:20231029T010000
END:STANDARD
BEGIN:DAYLIGHT
TZOFFSETFROM:+0100
TZOFFSETTO:+0200
TZNAME:CEST
DTSTART:20240331T010000
END:DAYLIGHT
BEGIN:STANDARD
TZOFFSETFROM:+0200
TZOFFSETTO:+0100
TZNAME:CET
DTSTART:20241027T010000
END:STANDARD
BEGIN:DAYLIGHT
TZOFFSETFROM:+0100
TZOFFSETTO:+0200
TZNAME:CEST
DTSTART:20250330T010000
END:DAYLIGHT
BEGIN:STANDARD
TZOFFSETFROM:+0200
TZOFFSETTO:+0100
TZNAME:CET
DTSTART:20251026T010000
END:STANDARD
END:VTIMEZONE
BEGIN:VEVENT
DTSTART;VALUE=DATE:20240504
DTEND;VALUE=DATE:20240505
DTSTAMP:20260423T153811
CREATED:20231023T101259Z
LAST-MODIFIED:20240601T204412Z
UID:2199-1714780800-1714867199@kreativer-kreis-allershausen.de
SUMMARY:Exkursion zur Kunst von Friedensreich Hundertwasser und zur Braukunst Kuchlbauer
DESCRIPTION:Das KunstHaus Abensberg \nEs entstand nach den Plänen des Architekten Peter Pelikan einem langjährigen Freund und Weggefährte Hundertwassers. Das Kunsthaus mit seinem schiefen Turm und seinen weichen und harmonischen Formen ist dem Leben und Werk Friedensreich Hundertwasser gewidmet. Auf 280 Quadratmetern\, die sich über 12 Ebenen erstrecken\, wird dem Besucher mit zahlreichen Exponaten die Werke des genialen Künstlers näher gebracht. Neben Originalgrafiken\, Briefmarken oder Chips für ein Kasino werden dem Besucher auch so kuriose Dinge wie eine Humustoilette und eine Pflanzenkläranlage präsentiert. Was diese unterschiedlichen Dinge miteinander verbindet\, können sie bei einem Besuch des KunstHausesAbensberg auf interessante Weise erfahren. \nKuchlbauer Hundertwasser Turm\nDie Brauerei Kuchlbauer hat hier etwas ganz Besonderes geschaffen\, denn in Kuchlbauer’s Bierwelt wird Bier und Kunst in Einklang gebracht. Bei einer Führung kann sich der Besucher nicht nur die Brauerei\, sondern auch das wohl letzte Bauwerk des berühmten Künstlers Friedensreich Hundertwasser besichtigen. Der Kuchlbauer Turm wurde nach den Entwürfen des Künstlers errichtet. Für ihn waren gerade Linien etwas Gottloses und so entstand ein wundeschöner 35 Meter hoher Turm\, der jeden Betrachter in seinen Bann zieht. Im Turm ist eine Bierglas-Ausstellung mit Weißbiergläsern aus aller Welt. \nKunst des Bierbrauens\nBei einer Brauereiführung wird dem Besucher nicht nur die Braukunst nähergebracht\, es werden auch Einblicke in das Leben der sagenumwobenen Weißbierzwerge\, oder in das Geheimnis des letzten Abendmahls gewährt. Eine Führung endet immer mit einer Bierverkostung\, sodass Kultur und Bier in Harmonie betrachtet werden können. \n\nSamstag 04.Mai 2024\, Abfahrt 9.00 Uhr \nDas Programm: Fahrt nach Abensberg direkt zum KunstHaus\, mit Führungen im Kunsthaus und der Brauerei \nLeistungen: Fahrt im modernen Reisebus direkt nach Abensberg\, Eintritt mit Führungen im Kunsthaus und der Brauerei\nPreis/Mitglieder: € 35\,00\nPreis/Gäste: € 38\,00 \nMindestteilnehmerzahl 25 Personen\, ansonsten findet die Reise nicht statt!\nVerbindlicher Anmeldeschluss ist der 24.03.2024 \nTelefonisch unter 08166-9988440 oder mit per Email: kontakt@kreativer-kreis-allershausen.de \nIn Kooperation mit der VHS Eching-Allershausen e.V.
URL:https://kreativer-kreis-allershausen.de/event/exkursion-zur-kunst-von-friedensreich-hundertwasser-und-zur-braukunst-kuchlbauer/
LOCATION:KunstHausAbensberg\, Schulhausplatz 4\, 93326 Abensberg\, Bayern\, 93326\, Deutschland
CATEGORIES:Kunstexkursion
ATTACH;FMTTYPE=image/jpeg:https://kreativer-kreis-allershausen.de/wp-content/uploads/2023/10/kunstexkursionen_hochkant_mittig_kka_vhs_ohnerand.jpg
ORGANIZER;CN="Kreativer Kreis Allershausen e.V.":MAILTO:kontakt@kreativer-kreis-allershausen.de
END:VEVENT
END:VCALENDAR