BEGIN:VCALENDAR
VERSION:2.0
PRODID:-//Kreativer Kreis Allershausen e.V. - ECPv6.15.20//NONSGML v1.0//EN
CALSCALE:GREGORIAN
METHOD:PUBLISH
X-ORIGINAL-URL:https://kreativer-kreis-allershausen.de
X-WR-CALDESC:Veranstaltungen für Kreativer Kreis Allershausen e.V.
REFRESH-INTERVAL;VALUE=DURATION:PT1H
X-Robots-Tag:noindex
X-PUBLISHED-TTL:PT1H
BEGIN:VTIMEZONE
TZID:Europe/Berlin
BEGIN:DAYLIGHT
TZOFFSETFROM:+0100
TZOFFSETTO:+0200
TZNAME:CEST
DTSTART:20230326T010000
END:DAYLIGHT
BEGIN:STANDARD
TZOFFSETFROM:+0200
TZOFFSETTO:+0100
TZNAME:CET
DTSTART:20231029T010000
END:STANDARD
BEGIN:DAYLIGHT
TZOFFSETFROM:+0100
TZOFFSETTO:+0200
TZNAME:CEST
DTSTART:20240331T010000
END:DAYLIGHT
BEGIN:STANDARD
TZOFFSETFROM:+0200
TZOFFSETTO:+0100
TZNAME:CET
DTSTART:20241027T010000
END:STANDARD
BEGIN:DAYLIGHT
TZOFFSETFROM:+0100
TZOFFSETTO:+0200
TZNAME:CEST
DTSTART:20250330T010000
END:DAYLIGHT
BEGIN:STANDARD
TZOFFSETFROM:+0200
TZOFFSETTO:+0100
TZNAME:CET
DTSTART:20251026T010000
END:STANDARD
END:VTIMEZONE
BEGIN:VEVENT
DTSTART;VALUE=DATE:20240217
DTEND;VALUE=DATE:20240218
DTSTAMP:20260423T195831
CREATED:20231023T092748Z
LAST-MODIFIED:20240324T135708Z
UID:2179-1708128000-1708214399@kreativer-kreis-allershausen.de
SUMMARY:Exkursion zum Kunstmuseum Walter im Glaspalast Augsburg
DESCRIPTION:Das KUNSTMUSEUM WALTER bietet mit über 1.600 Werken einen einzigartigen Einblick in die Moderne Zeitgenössische Kunst. Gezeigt wird neben der modernen zeitgenössischen Kunst aus Deutschland\, Europa und Amerika\, auch die ehemalige Ostkunst der weltbekannten Leipziger Schule. Darüber hinaus werden Kunstwerke der klassischen Moderne der ersten Hälfte des vergangenen Jahrhunderts präsentiert. \nSehen Sie im Museum Werke u.a. von Georg Baselitz\, Gerhard Richter\, Andy Warhol\, Markus Lüpertz\, Jörg Immendorff\, Arnulf Rainer\, Christian Ludwig Attersee\, Herbert Brandl\, Hermann Nitsch\, Günther Förg\, Daniel Richter\, Christo\, Armin Müller-Stahl\, Rupprecht Geiger\, Franz Hitzler\, Cornelia Schleime\, Per Kirkeby\, Markus Oehlen\, Anselm Kiefer\, Elvira Bach\, Bernd ZimmerNeo Rauch\, Rosa Loy\, Michael Triegel\, Norbert Bisky\, Norbert Tadeusz\, Egidio Costantini\, Günther Uecker\, Otto Piene\, Max Pechstein\, Karl Schmidt-Rottluff\, Ernst Ludwig Kirchner\, Horst Antes\, Victor Vasarely\, Auguste Rodin\, Pablo Picasso. \nDie Sammlung WALTER ist eine klassische Kunstsammlung\, welche gleichzeitig als eine Gegenüberstellung der ehemaligen Ost- und West-Kunst zu verstehen ist. Die Sammlung sichert hohen Kunstgenuss und erzeugt große Spannung bei der Besichtigung der Kunstwerke. Diese werden in wunderschönen\, lichtdurchfluteten\, sehr hohen Räumen präsentiert. Die gezeigte Kunst kommt hier ungewöhnlich attraktiv zur Geltung. \n\nSamstag 17.02.2024\, Halbtags\, Abfahrt 13.00 Uhr \nDas Programm: Fahrt nach Augsburg direkt zum Glaspalast\, Besuch der Ausstellung \nLeistungen: Fahrt direkt zum Museum\, Eintritt mit Führung\nPreis/Mitglieder: € 30\,00\nPreis/Gäste: € 33\,00 \nMindestteilnehmerzahl 5 Personen\, ansonsten findet die Reise nicht statt!\nVerbindlicher Anmeldeschluss ist der 31.01.2024 \nTelefonisch unter 08166-9988440 oder mit per Email: kontakt@kreativer-kreis-allershausen.de \nIn Kooperation mit der VHS Eching-Allershausen
URL:https://kreativer-kreis-allershausen.de/event/exkursion-zum-kunstmuseum-walter/
LOCATION:Kunstmuseum Walter\, Beim Glaspalast 1\, 86153 Augsburg\, Bayern\, 86153\, Deutschland
CATEGORIES:Kunstexkursion
ATTACH;FMTTYPE=image/jpeg:https://kreativer-kreis-allershausen.de/wp-content/uploads/2023/10/kunstexkursionen_hochkant_mittig_kka_vhs_ohnerand.jpg
ORGANIZER;CN="Kreativer Kreis Allershausen e.V.":MAILTO:kontakt@kreativer-kreis-allershausen.de
END:VEVENT
END:VCALENDAR