BEGIN:VCALENDAR
VERSION:2.0
PRODID:-//Kreativer Kreis Allershausen e.V. - ECPv6.15.20//NONSGML v1.0//EN
CALSCALE:GREGORIAN
METHOD:PUBLISH
X-WR-CALNAME:Kreativer Kreis Allershausen e.V.
X-ORIGINAL-URL:https://kreativer-kreis-allershausen.de
X-WR-CALDESC:Veranstaltungen für Kreativer Kreis Allershausen e.V.
REFRESH-INTERVAL;VALUE=DURATION:PT1H
X-Robots-Tag:noindex
X-PUBLISHED-TTL:PT1H
BEGIN:VTIMEZONE
TZID:Europe/Berlin
BEGIN:DAYLIGHT
TZOFFSETFROM:+0100
TZOFFSETTO:+0200
TZNAME:CEST
DTSTART:20220327T010000
END:DAYLIGHT
BEGIN:STANDARD
TZOFFSETFROM:+0200
TZOFFSETTO:+0100
TZNAME:CET
DTSTART:20221030T010000
END:STANDARD
BEGIN:DAYLIGHT
TZOFFSETFROM:+0100
TZOFFSETTO:+0200
TZNAME:CEST
DTSTART:20230326T010000
END:DAYLIGHT
BEGIN:STANDARD
TZOFFSETFROM:+0200
TZOFFSETTO:+0100
TZNAME:CET
DTSTART:20231029T010000
END:STANDARD
BEGIN:DAYLIGHT
TZOFFSETFROM:+0100
TZOFFSETTO:+0200
TZNAME:CEST
DTSTART:20240331T010000
END:DAYLIGHT
BEGIN:STANDARD
TZOFFSETFROM:+0200
TZOFFSETTO:+0100
TZNAME:CET
DTSTART:20241027T010000
END:STANDARD
END:VTIMEZONE
BEGIN:VEVENT
DTSTART;VALUE=DATE:20230414
DTEND;VALUE=DATE:20230630
DTSTAMP:20260420T094831
CREATED:20230413T190049Z
LAST-MODIFIED:20230322T104045Z
UID:1028-1681430400-1688083199@kreativer-kreis-allershausen.de
SUMMARY:Veranstaltungsreihe: „Kunst im Rathaus“ mit Tuija Unho-Berger
DESCRIPTION:Tuija Unho-Berger stellt bis zum 29. Juni 2023 einige ihrer Bilder aus. Alle Interessierten sind herzlich eingeladen die Kunstwerke während der regulären Öfnnungszeiten des Allershausener Rathauses zu betrachten. \nWir freuen uns über Ihren Besuch! \nKulturbeirat der Gemeinde Allershausen & Verein Kreativer Kreis Allershausen e.V. \n  \nÖffnungszeiten Rathaus: Montag bis Freitag 08.00 -12.00 Uhr und Donnerstags zusätzlich von 14.00 – 17.00 Uhr
URL:https://kreativer-kreis-allershausen.de/event/veranstaltungsreihe-kunst-im-rathaus-mit-tuija-unho-berger/
LOCATION:Rathaus Allershausen\, Johannes-Boos-Platz 6\, 85391 Allershausen\, Bayern\, 85391\, Deutschland
CATEGORIES:Kunst im Rathaus
ATTACH;FMTTYPE=image/png:https://kreativer-kreis-allershausen.de/wp-content/uploads/2023/02/Plakat-Unho-Berger-Webversion.png
ORGANIZER;CN="Kreativer Kreis Allershausen e.V.":MAILTO:kontakt@kreativer-kreis-allershausen.de
END:VEVENT
END:VCALENDAR