BEGIN:VCALENDAR
VERSION:2.0
PRODID:-//Kreativer Kreis Allershausen e.V. - ECPv6.15.20//NONSGML v1.0//EN
CALSCALE:GREGORIAN
METHOD:PUBLISH
X-WR-CALNAME:Kreativer Kreis Allershausen e.V.
X-ORIGINAL-URL:https://kreativer-kreis-allershausen.de
X-WR-CALDESC:Veranstaltungen für Kreativer Kreis Allershausen e.V.
REFRESH-INTERVAL;VALUE=DURATION:PT1H
X-Robots-Tag:noindex
X-PUBLISHED-TTL:PT1H
BEGIN:VTIMEZONE
TZID:Europe/Berlin
BEGIN:DAYLIGHT
TZOFFSETFROM:+0100
TZOFFSETTO:+0200
TZNAME:CEST
DTSTART:20220327T010000
END:DAYLIGHT
BEGIN:STANDARD
TZOFFSETFROM:+0200
TZOFFSETTO:+0100
TZNAME:CET
DTSTART:20221030T010000
END:STANDARD
BEGIN:DAYLIGHT
TZOFFSETFROM:+0100
TZOFFSETTO:+0200
TZNAME:CEST
DTSTART:20230326T010000
END:DAYLIGHT
BEGIN:STANDARD
TZOFFSETFROM:+0200
TZOFFSETTO:+0100
TZNAME:CET
DTSTART:20231029T010000
END:STANDARD
BEGIN:DAYLIGHT
TZOFFSETFROM:+0100
TZOFFSETTO:+0200
TZNAME:CEST
DTSTART:20240331T010000
END:DAYLIGHT
BEGIN:STANDARD
TZOFFSETFROM:+0200
TZOFFSETTO:+0100
TZNAME:CET
DTSTART:20241027T010000
END:STANDARD
END:VTIMEZONE
BEGIN:VEVENT
DTSTART;TZID=Europe/Berlin:20230625T180000
DTEND;TZID=Europe/Berlin:20230625T193000
DTSTAMP:20260425T131117
CREATED:20230525T130256Z
LAST-MODIFIED:20231025T152940Z
UID:2273-1687716000-1687721400@kreativer-kreis-allershausen.de
SUMMARY:Bob-Dylan-Parlor-Concert '23
DESCRIPTION:Härtl & Weigslberger feat. Waldenfels\n Sonntag\, 25. Juni 2023\, 18:00 Uhr\, Einlass 17:30 Uhr\nSportheim Hohenkammer\nKarten-Vorverkauf Lebensmittel Oberhauser \n\n\n  \nBob Dylan ist ein Zauberer\, ein Protestsänger\, ein Rock’n Roller\, ein Poet\, Oscar Gewinner und Literatur-Nobelpreisträger. Norbert Härtl\, schon in seiner Jugend von diesem Bob Dylan infiziert\, spielt neben seinen legendären „Rilke meets Tom Waits“-Konzerten immer wieder ephemere Dylan-Konzerte mit verschiedensten Musiker-Kollegen aus dem Freisinger und Münchner Raum. \nSind es bei Tom Waits die mitunter skurrilen Texte\, so fasziniert Härtl bei Dylan die sprachliche Komplexität mit ihren Metaphern und literarischen Querverbindungen\, die eine neue Qualität in die Popmusik der 60er Jahre brachte und die bis heute nachwirkt. Dylan war der erste Songschreiber\, der seine Texte systematisch mit Rätsel-Prisen versah\, mit Sperrwerken gegen allzu große Gefälligkeit.\nFür das „Bob-Dylan-Parlor-Concert ’23 holt Härtl die stimmgewaltige Lisa Weigslberger von „The Bee Wigs“ und den professionellen Live-Musiker Titus Waldenfels an seine Seite. \nWaldenfels ist seit 25 Jahren unterwegs in den Bereichen Jazz\, Blues\, Country\, Chanson und Theatermusik. Seine Kreativität kennt keine Grenzen. In den letzten 25 Jahren spielte er unter anderem mit Größen wie Embryo und dem Sänger und Saxophonspieler Monty Waters.\nMit seiner mühelosen Performance begeistert er immer wieder Musikerkollegen und Publikum.\nLisa Weigslberger bringt mit eigenen Interpretionen und ihrem Harmonie-Gesang eine unerwartete Note in die Performance der Dylan-Songs. \nIm Wechsel von frühen bis zu aktuellen Songs reist das Trio durch das Universum des Song-Poeten\, Oscar-Gewinners und Literatur-Nobel-Preisträgers – des Homer des 20. Jahrhunderts. \nNorbert Härtl: Lead/Harmonie-Gesang\, Akustikgitarre und Harp\,\nLisa Weigslberger: Lead/Harmonie-Gesang\, Akustikgitarre und Klavier\,\nTitus Waldenfels: Akustik- und Elektrogitarre\, Pedal-Steel-Gitarre\, Geige und Banjo.\nMirjam Mergen führt durch das Programm und rezitiert eine Auswahl von Lyric-Übersetzungen. \n  \n\nEine Veranstaltung von Treffpunkt Kultur e. V. – Verein für Musik\, Theater\, Literatur und Bildende Kunst in Hohenkammer
URL:https://kreativer-kreis-allershausen.de/event/bob-dylan-parlor-concert-23/
LOCATION:Vereinsheim Hohenkammer\, Pfarrer-Egger-Straße 17\, 85411 Hohenkammer\, Bayern\, 85411\, Deutschland
CATEGORIES:Veranstaltung von Treffpunkt Kultur e.V. Hohenkammer
ATTACH;FMTTYPE=image/png:https://kreativer-kreis-allershausen.de/wp-content/uploads/2023/10/B.D.-P-C.png
END:VEVENT
END:VCALENDAR