BEGIN:VCALENDAR
VERSION:2.0
PRODID:-//Kreativer Kreis Allershausen e.V. - ECPv6.15.20//NONSGML v1.0//EN
CALSCALE:GREGORIAN
METHOD:PUBLISH
X-WR-CALNAME:Kreativer Kreis Allershausen e.V.
X-ORIGINAL-URL:https://kreativer-kreis-allershausen.de
X-WR-CALDESC:Veranstaltungen für Kreativer Kreis Allershausen e.V.
REFRESH-INTERVAL;VALUE=DURATION:PT1H
X-Robots-Tag:noindex
X-PUBLISHED-TTL:PT1H
BEGIN:VTIMEZONE
TZID:Europe/Berlin
BEGIN:DAYLIGHT
TZOFFSETFROM:+0100
TZOFFSETTO:+0200
TZNAME:CEST
DTSTART:20220327T010000
END:DAYLIGHT
BEGIN:STANDARD
TZOFFSETFROM:+0200
TZOFFSETTO:+0100
TZNAME:CET
DTSTART:20221030T010000
END:STANDARD
BEGIN:DAYLIGHT
TZOFFSETFROM:+0100
TZOFFSETTO:+0200
TZNAME:CEST
DTSTART:20230326T010000
END:DAYLIGHT
BEGIN:STANDARD
TZOFFSETFROM:+0200
TZOFFSETTO:+0100
TZNAME:CET
DTSTART:20231029T010000
END:STANDARD
BEGIN:DAYLIGHT
TZOFFSETFROM:+0100
TZOFFSETTO:+0200
TZNAME:CEST
DTSTART:20240331T010000
END:DAYLIGHT
BEGIN:STANDARD
TZOFFSETFROM:+0200
TZOFFSETTO:+0100
TZNAME:CET
DTSTART:20241027T010000
END:STANDARD
END:VTIMEZONE
BEGIN:VEVENT
DTSTART;TZID=Europe/Berlin:20231118T190000
DTEND;TZID=Europe/Berlin:20231118T223000
DTSTAMP:20260423T162044
CREATED:20230717T200520Z
LAST-MODIFIED:20240323T113730Z
UID:2010-1700334000-1700346600@kreativer-kreis-allershausen.de
SUMMARY:2. Allershausener Blues Nacht
DESCRIPTION:Am 18. November 2023 beginnt um 19 Uhr das \n\n\n\n\n\n\n\n\n\n2. Allershausener Blues Konzert mit der Jakarta Blues Band\n\nStilechter Blues aus einer Zeit\, als die Verstärker klein waren und die Autos noch Flossen hatten. Das ist die Musik der Jakarta Blues Band\, Musik für Herz\, Seele und Tanzbein. Die sechs Musiker fühlen sich den Vorbildern aus den 50er und 60er Jahren verbunden und lassen mit Liebe und Respekt einen Sound wieder aufleben\, der mit seiner ursprünglichen Energie und Emotionalität begeistert. Das Repertoire lotet das volle Spektrum dieser faszinierenden Musik-Ära aus und überzeugt durch Virtuosität und Vielfältigkeit. Es umfasst neben ausgesuchten Klassikern des Chicago Blues von Otis Rush\, B.B. King oder Junior Wells auch viele Stücke\, die nicht von der Kopiermaschine des Rock-Business erfasst wurden und eigene Kompositionen im Stil der Zeit. Vom fetzenden Shuffle bis zum dramatischen Slow-Blues\, von frech bis traurig\, von leise bis kraftvoll – ein Konzert der Jakarta Blues Band bietet Musik für jedes Lebensgefühl. \nDie Jakarta Blues Band besteht aus Markus Stegbauer (Gitarre und Gesang)\, Georg Bichlmaier (Gitarre)\, Klaus Benz (Keyboards)\, Florian Niklas (Saxophon)\,  SigiGrasser (Bass) und Teddy Reumschüssel (Drums) \n  \nVeranstaltungsort: La Trinacria D‘ Oro Allershausen\nAm Amperknie 1\, 85391 Allershausen \n\n\n\n\n\n\n\n\nAlle Interessierten sind herzlich eingeladen. Wir freuen uns über Ihren Besuch! \nKulturbeirat der Gemeinde Allershausen & Verein Kreativer Kreis Allershausen e.V. \nDer Kartenvorverkauf startet ab sofort \nVorverkauf u.a. bei Sportgastätte La Trinica D’Oro und Das kleine Kaufhaus \nKarten können Sie auch über dieses Kontaktformular online bestellen. Wir senden Ihnen eine Paypalrechnung zu. \n\n← Zurück Vielen Dank für deine Antwort. ✨\n\n\n					\n						\n							\n							\n						\n						\n						\n						\n						\n							\n								\n									\n										\n										\n									\n									\n										\n										\n									\n								\n							\n						\n						\n							\n								\n									\n									\n										\n									\n									\n									\n								\n							\n						\n					\n				\n\n\n\nName(erforderlich)\n\n \n			\n				\n					\n						\n						\n						\n					\n				\n				\n			 \n	\n\n\nE-Mail(erforderlich)\n\n \n			\n				\n					\n						\n						\n						\n					\n				\n				\n			 \n	\n\n\n\nOnline Karten Bestellung - mit Paypalzahlung (erforderlich)\n	\n		Wähle eine Option\n		1x Eintrittskarte Allershausener Blues Nacht\n		2x Eintrittskarte Allershausener Blues Nacht\n		3x Eintrittskarte Allershausener Blues Nacht\n		4x Eintrittskarte Allershausener Blues Nacht\n	\n\n\n			\n				\n					\n						\n						\n						\n					\n				\n				\n				\n\n\n\n\n\nKartenversand/Abholung(erforderlich)\n Abholung der Eintrittskarten  Hinterlegung der Eintrittskarten an der Abendkasse  Versand der Eintrittskarten (zzgl. Porto) möglich bis max. 3 Tage vor Veranstaltungsbeginn \n			\n				\n					\n						\n						\n						\n					\n				\n				\n				\n\n\nBei Versand der Eintrittskarten bitte hier Ihre Lieferadresse (Name\, Straße\, PLZ\, Ort) angeben.\n\n \n			\n				\n					\n						\n						\n						\n					\n				\n				\n			 \n	\n	\n\n				\n					\n				\n						Senden		\n		\n		\n	 \nΔ
URL:https://kreativer-kreis-allershausen.de/event/2-allershausener-blues-nacht/
LOCATION:Sportgaststätte La Trinica D’Oro\, Am Amperknie 1\, 85391 Allershausen\, Bayern\, 85391\, Deutschland
CATEGORIES:Konzert
ATTACH;FMTTYPE=application/pdf:https://kreativer-kreis-allershausen.de/wp-content/uploads/2023/07/Allershausener-2.-Blues-Nacht.pdf
ORGANIZER;CN="Kreativer Kreis Allershausen e.V.":MAILTO:kontakt@kreativer-kreis-allershausen.de
END:VEVENT
END:VCALENDAR