BEGIN:VCALENDAR
VERSION:2.0
PRODID:-//Kreativer Kreis Allershausen e.V. - ECPv6.15.20//NONSGML v1.0//EN
CALSCALE:GREGORIAN
METHOD:PUBLISH
X-ORIGINAL-URL:https://kreativer-kreis-allershausen.de
X-WR-CALDESC:Veranstaltungen für Kreativer Kreis Allershausen e.V.
REFRESH-INTERVAL;VALUE=DURATION:PT1H
X-Robots-Tag:noindex
X-PUBLISHED-TTL:PT1H
BEGIN:VTIMEZONE
TZID:Europe/Berlin
BEGIN:DAYLIGHT
TZOFFSETFROM:+0100
TZOFFSETTO:+0200
TZNAME:CEST
DTSTART:20220327T010000
END:DAYLIGHT
BEGIN:STANDARD
TZOFFSETFROM:+0200
TZOFFSETTO:+0100
TZNAME:CET
DTSTART:20221030T010000
END:STANDARD
BEGIN:DAYLIGHT
TZOFFSETFROM:+0100
TZOFFSETTO:+0200
TZNAME:CEST
DTSTART:20230326T010000
END:DAYLIGHT
BEGIN:STANDARD
TZOFFSETFROM:+0200
TZOFFSETTO:+0100
TZNAME:CET
DTSTART:20231029T010000
END:STANDARD
BEGIN:DAYLIGHT
TZOFFSETFROM:+0100
TZOFFSETTO:+0200
TZNAME:CEST
DTSTART:20240331T010000
END:DAYLIGHT
BEGIN:STANDARD
TZOFFSETFROM:+0200
TZOFFSETTO:+0100
TZNAME:CET
DTSTART:20241027T010000
END:STANDARD
END:VTIMEZONE
BEGIN:VEVENT
DTSTART;TZID=Europe/Berlin:20230211T190000
DTEND;TZID=Europe/Berlin:20230211T223000
DTSTAMP:20260424T044559
CREATED:20221120T141034Z
LAST-MODIFIED:20230717T195956Z
UID:880-1676142000-1676154600@kreativer-kreis-allershausen.de
SUMMARY:1. Allershausener Blues Nacht
DESCRIPTION:Am 11. Februar 2023 beginnt um 19 Uhr das \nBlues Konzert mit der G Projekt Blues Band (Bayerns bekannteste Blues Band)\nin der Sportgaststätte \nLa Trinacria D‘ Oro Allershausen\nAm Amperknie 1\, 85391 Allershausen\n \n\n\n\n\n\n\n\n\nAlle Interessierten sind herzlich eingeladen. Wir freuen uns über Ihren Besuch! \nKulturbeirat der Gemeinde Allershausen & Verein Kreativer Kreis Allershausen e.V. \nDer Kartenvorverkauf startet ab dem 25.11.2022 \nVorverkauf u.a. bei Sportgastätte La Trinica D’Oro\, Das kleine Kaufhaus\n \nSonderverkauf auf dem Allershausener Weihnachtsmarkt  \nKarten können Sie auch über dieses Kontaktformular online bestellen. Wir senden Ihnen eine Paypalrechnung zu. \n\n← Zurück Vielen Dank für deine Antwort. ✨\n\n\n					\n						\n							\n							\n						\n						\n						\n						\n						\n							\n								\n									\n										\n										\n									\n									\n										\n										\n									\n								\n							\n						\n						\n							\n								\n									\n									\n										\n									\n									\n									\n								\n							\n						\n					\n				\n\n\n\nName(erforderlich)\n\n \n			\n				\n					\n						\n						\n						\n					\n				\n				\n			 \n	\n\n\nE-Mail(erforderlich)\n\n \n			\n				\n					\n						\n						\n						\n					\n				\n				\n			 \n	\n\n\nOnline Karten Bestellung - mit Paypalzahlung (erforderlich)\n	\n		Wähle eine Option\n		1x Eintrittskarte Allershausener Blues Nacht\n		2x Eintrittskarte Allershausener Blues Nacht\n		3x Eintrittskarte Allershausener Blues Nacht\n		4x Eintrittskarte Allershausener Blues Nacht\n	\n\n\n			\n				\n					\n						\n						\n						\n					\n				\n				\n				\n\n\nKartenversand/Abholung(erforderlich)\n Abholung der Eintrittskarten  Hinterlegung der Eintrittskarten an der Abendkasse  Versand der Eintrittskarten (zzgl. Porto) möglich bis max. 3 Tage vor Veranstaltungsbeginn \n			\n				\n					\n						\n						\n						\n					\n				\n				\n				\n\n\nBei Versand der Eintrittskarten bitte hier Ihre Lieferadresse (Name\, Straße\, PLZ\, Ort) angeben.\n\n \n			\n				\n					\n						\n						\n						\n					\n				\n				\n			 \n	\n	\n\n				\n					\n				\n						Senden		\n		\n		\n	 \nΔ
URL:https://kreativer-kreis-allershausen.de/event/allershausener-blues-nacht/
LOCATION:Sportgaststätte La Trinica D’Oro\, Am Amperknie 1\, 85391 Allershausen\, Bayern\, 85391\, Deutschland
CATEGORIES:Konzert
ATTACH;FMTTYPE=image/jpeg:https://kreativer-kreis-allershausen.de/wp-content/uploads/2022/11/Bluesnacht_Plakat_small.jpg
ORGANIZER;CN="Kreativer Kreis Allershausen e.V.":MAILTO:kontakt@kreativer-kreis-allershausen.de
END:VEVENT
END:VCALENDAR