BEGIN:VCALENDAR
VERSION:2.0
PRODID:-//Kreativer Kreis Allershausen e.V. - ECPv6.15.20//NONSGML v1.0//EN
CALSCALE:GREGORIAN
METHOD:PUBLISH
X-WR-CALNAME:Kreativer Kreis Allershausen e.V.
X-ORIGINAL-URL:https://kreativer-kreis-allershausen.de
X-WR-CALDESC:Veranstaltungen für Kreativer Kreis Allershausen e.V.
REFRESH-INTERVAL;VALUE=DURATION:PT1H
X-Robots-Tag:noindex
X-PUBLISHED-TTL:PT1H
BEGIN:VTIMEZONE
TZID:Europe/Berlin
BEGIN:DAYLIGHT
TZOFFSETFROM:+0100
TZOFFSETTO:+0200
TZNAME:CEST
DTSTART:20230326T010000
END:DAYLIGHT
BEGIN:STANDARD
TZOFFSETFROM:+0200
TZOFFSETTO:+0100
TZNAME:CET
DTSTART:20231029T010000
END:STANDARD
BEGIN:DAYLIGHT
TZOFFSETFROM:+0100
TZOFFSETTO:+0200
TZNAME:CEST
DTSTART:20240331T010000
END:DAYLIGHT
BEGIN:STANDARD
TZOFFSETFROM:+0200
TZOFFSETTO:+0100
TZNAME:CET
DTSTART:20241027T010000
END:STANDARD
BEGIN:DAYLIGHT
TZOFFSETFROM:+0100
TZOFFSETTO:+0200
TZNAME:CEST
DTSTART:20250330T010000
END:DAYLIGHT
BEGIN:STANDARD
TZOFFSETFROM:+0200
TZOFFSETTO:+0100
TZNAME:CET
DTSTART:20251026T010000
END:STANDARD
END:VTIMEZONE
BEGIN:VEVENT
DTSTART;TZID=Europe/Berlin:20240505T140000
DTEND;TZID=Europe/Berlin:20240505T173000
DTSTAMP:20260423T061920
CREATED:20231024T152743Z
LAST-MODIFIED:20251130T150447Z
UID:2249-1714917600-1714930200@kreativer-kreis-allershausen.de
SUMMARY:3. Kirschblütenfest im Glonnfeldpark
DESCRIPTION:Kaffee/Tee/Getränke – Kuchen – Kultur – Musik \nHanami bedeutet übersetzt „Blüten schauen“. Bei dem Fest wird die Schönheit und auch die Vergänglichkeit der Natur widergespiegelt. \nFür Japaner ist Hanami eines der Highlights des Jahres\, welches sie als Picknick ab Ende April unter blühenden Kirschblüten feiern. Mit Familie\, Freunden oder Kollegen sitzen sie dann gemütlich mit leckerem Essen und Getränken beisammen. \nAuch wir feiern in Allershausen das Kirschblütenfest. Kommen Sie auf eine Tasse Kaffee/Tee\, ein Getränk (alkoholfrei) und einem Stück Kuchen vorbei und erfreuen Sie sich an der Blütenpracht. \nSitzgelegenheiten gibt es vor Ort. Wir freuen uns auch über Gäste die Ihre Picknickdecken mitbringen und es sich auf der Wiese gemütlich machen. \nAlle Allershausener und alle Baumspender/-paten sind herzlich eingeladen. \nBei schlechtem Wetter wird die Veranstaltung auf den 09. Mai 2024 verschoben.
URL:https://kreativer-kreis-allershausen.de/event/kirschbluetenfest-im-glonnfeldpark-2/
LOCATION:Glonnfeld Park Allershausen\, Glonnfeld Park\, 85391 Allershausen\, Bayern\, 85391\, Deutschland
CATEGORIES:Kirschblütenfest
ATTACH;FMTTYPE=image/png:https://kreativer-kreis-allershausen.de/wp-content/uploads/2023/10/Kirschbluetenfest_3-1.png
ORGANIZER;CN="Kreativer Kreis Allershausen e.V.":MAILTO:kontakt@kreativer-kreis-allershausen.de
END:VEVENT
BEGIN:VEVENT
DTSTART;TZID=Europe/Berlin:20240510T150000
DTEND;TZID=Europe/Berlin:20240510T160000
DTSTAMP:20260423T061920
CREATED:20240417T110717Z
LAST-MODIFIED:20240601T204843Z
UID:2764-1715353200-1715356800@kreativer-kreis-allershausen.de
SUMMARY:Allershausener Müll-Sammel Spaziergang
DESCRIPTION:Wir treffen uns alle paar Wochen zum Müll-Sammel Spaziergang im Gemeindegebiet. Hier haben wir uns einer bereits bestehenden tollen Aktion einer politischen Gruppierung aus Allershausen angeschlossen. \nAn verschiedenen Treffpunkten im Gemeindegebiet machen wir einen kleinen Spaziergang (ca. 1 Std.) und sammeln dabei den Müll auf. \nWir sammeln an den Glonnterrassen und im Glonnfeld Park \nam 10.05.2024 von 15.00 bis 16.00 Uhr. Kommt vorbei und helft mit beim aufräumen! \nTreffpunkt Gruppe 1: Glonnterrassen \nTreffpunkt Gruppe 2: Glonnfeld Park
URL:https://kreativer-kreis-allershausen.de/event/allershausener-muell-sammel-spaziergang-8/
CATEGORIES:Allershausener Müll-Sammel Spaziergang
ATTACH;FMTTYPE=image/png:https://kreativer-kreis-allershausen.de/wp-content/uploads/2024/03/Muellsammeln.png
END:VEVENT
END:VCALENDAR