BEGIN:VCALENDAR
VERSION:2.0
PRODID:-//Kreativer Kreis Allershausen e.V. - ECPv6.15.20//NONSGML v1.0//EN
CALSCALE:GREGORIAN
METHOD:PUBLISH
X-ORIGINAL-URL:https://kreativer-kreis-allershausen.de
X-WR-CALDESC:Veranstaltungen für Kreativer Kreis Allershausen e.V.
REFRESH-INTERVAL;VALUE=DURATION:PT1H
X-Robots-Tag:noindex
X-PUBLISHED-TTL:PT1H
BEGIN:VTIMEZONE
TZID:Europe/Berlin
BEGIN:DAYLIGHT
TZOFFSETFROM:+0100
TZOFFSETTO:+0200
TZNAME:CEST
DTSTART:20230326T010000
END:DAYLIGHT
BEGIN:STANDARD
TZOFFSETFROM:+0200
TZOFFSETTO:+0100
TZNAME:CET
DTSTART:20231029T010000
END:STANDARD
BEGIN:DAYLIGHT
TZOFFSETFROM:+0100
TZOFFSETTO:+0200
TZNAME:CEST
DTSTART:20240331T010000
END:DAYLIGHT
BEGIN:STANDARD
TZOFFSETFROM:+0200
TZOFFSETTO:+0100
TZNAME:CET
DTSTART:20241027T010000
END:STANDARD
BEGIN:DAYLIGHT
TZOFFSETFROM:+0100
TZOFFSETTO:+0200
TZNAME:CEST
DTSTART:20250330T010000
END:DAYLIGHT
BEGIN:STANDARD
TZOFFSETFROM:+0200
TZOFFSETTO:+0100
TZNAME:CET
DTSTART:20251026T010000
END:STANDARD
END:VTIMEZONE
BEGIN:VEVENT
DTSTART;TZID=Europe/Berlin:20240316T090000
DTEND;TZID=Europe/Berlin:20240316T100000
DTSTAMP:20260423T090012
CREATED:20240324T135602Z
LAST-MODIFIED:20240417T110423Z
UID:2742-1710579600-1710583200@kreativer-kreis-allershausen.de
SUMMARY:Allershausener Müll-Sammel Spaziergang
DESCRIPTION:Ramadama der Gemeinde Allershausen. Im Rahmen der Aktion saubere Landschaft sind wir mit unserem monatlichen Müll Sammelspaziergang dabei.
URL:https://kreativer-kreis-allershausen.de/event/allershausener-muell-sammel-spaziergang-6/
LOCATION:Glonnfeld Park Allershausen\, Glonnfeld Park\, 85391 Allershausen\, Bayern\, 85391\, Deutschland
ATTACH;FMTTYPE=image/png:https://kreativer-kreis-allershausen.de/wp-content/uploads/2024/03/Muellsammeln.png
ORGANIZER;CN="Kreativer Kreis Allershausen e.V.":MAILTO:kontakt@kreativer-kreis-allershausen.de
END:VEVENT
END:VCALENDAR