BEGIN:VCALENDAR
VERSION:2.0
PRODID:-//Kreativer Kreis Allershausen e.V. - ECPv6.15.20//NONSGML v1.0//EN
CALSCALE:GREGORIAN
METHOD:PUBLISH
X-ORIGINAL-URL:https://kreativer-kreis-allershausen.de
X-WR-CALDESC:Veranstaltungen für Kreativer Kreis Allershausen e.V.
REFRESH-INTERVAL;VALUE=DURATION:PT1H
X-Robots-Tag:noindex
X-PUBLISHED-TTL:PT1H
BEGIN:VTIMEZONE
TZID:Europe/Berlin
BEGIN:DAYLIGHT
TZOFFSETFROM:+0100
TZOFFSETTO:+0200
TZNAME:CEST
DTSTART:20240331T010000
END:DAYLIGHT
BEGIN:STANDARD
TZOFFSETFROM:+0200
TZOFFSETTO:+0100
TZNAME:CET
DTSTART:20241027T010000
END:STANDARD
BEGIN:DAYLIGHT
TZOFFSETFROM:+0100
TZOFFSETTO:+0200
TZNAME:CEST
DTSTART:20250330T010000
END:DAYLIGHT
BEGIN:STANDARD
TZOFFSETFROM:+0200
TZOFFSETTO:+0100
TZNAME:CET
DTSTART:20251026T010000
END:STANDARD
BEGIN:DAYLIGHT
TZOFFSETFROM:+0100
TZOFFSETTO:+0200
TZNAME:CEST
DTSTART:20260329T010000
END:DAYLIGHT
BEGIN:STANDARD
TZOFFSETFROM:+0200
TZOFFSETTO:+0100
TZNAME:CET
DTSTART:20261025T010000
END:STANDARD
END:VTIMEZONE
BEGIN:VEVENT
DTSTART;VALUE=DATE:20250926
DTEND;VALUE=DATE:20251129
DTSTAMP:20260419T210813
CREATED:20251023T193025Z
LAST-MODIFIED:20260104T165454Z
UID:3197-1758844800-1764374399@kreativer-kreis-allershausen.de
SUMMARY:Ausstellung im Rathaus von Fabian Oppolzer
DESCRIPTION:Zur Ausstellung laden wir alle interessierten Kunstfreunde und Bürger herzlich ein. \nFabian Oppolzer stellt im Rathaus Allershausen vom 26.09.2025 bis zum 28.11.2025 aus. \nDie Ausstellung ist während der Öffnungszeiten des Rathauses Allershausen (Mo – Fr: 8.00 – 12.00 Uhr und Do: 14.00 – 17.00 Uhr) zu besichtigen.
URL:https://kreativer-kreis-allershausen.de/event/3197/
LOCATION:Rathaus Allershausen\, Johannes-Boos-Platz 6\, 85391 Allershausen\, Bayern\, 85391\, Deutschland
ATTACH;FMTTYPE=image/png:https://kreativer-kreis-allershausen.de/wp-content/uploads/2025/10/Plakat-Oppolzer-Ausstellung_Seite_1-scaled.png
ORGANIZER;CN="Kreativer Kreis Allershausen e.V.":MAILTO:kontakt@kreativer-kreis-allershausen.de
END:VEVENT
BEGIN:VEVENT
DTSTART;TZID=Europe/Berlin:20251123T150000
DTEND;TZID=Europe/Berlin:20251123T163000
DTSTAMP:20260419T210813
CREATED:20251023T192534Z
LAST-MODIFIED:20260104T165549Z
UID:3193-1763910000-1763915400@kreativer-kreis-allershausen.de
SUMMARY:Mitgliederversammlung
DESCRIPTION:Sehr geehrtes Mitglied\, \nunsere diesjährige ordentliche Mitgliederversammlung findet statt am 23.11.2025\, 15.00 Uhr im Café/Konditorei Müller\, Freisinger Str. 16\, 85391 Allershausen \nAuf der Tagesordnung stehen folgende Themen: \n  \n1 .  Begrüßung durch den Vorstand \n  \n\n  Feststellung der ordnungsgemäßen Einberufung und der Beschlussfähigkeit der Mitgliederversammlung\n\n  \n\nEntgegennahme des Jahresberichts und Tätigkeitsberichts für das abgelaufene Geschäftsjahr 2024 und Entlastung des Vorstands\n\n  \n\nBesprechung Projekte: Adventstüre 2025 (Weihnachtsfeier)\, Kirschblütenfest 2026\, Ausstellungen 2026\n\n  \n\nVerschiedenes\n\n  \nAnträge auf Ergänzungen der Tagesordnung müssen bis eine Woche vor der Versammlung schriftlich beim Vorstand eingereicht werden\, damit der Vorstand sie noch auf die Tagesordnung setzen kann. \n  \nUm zahlreiches und pünktliches Erscheinen wird gebeten. \nMit freundlichen Grüßen \nKreativer Kreis Allershausen e.V. \n  \n1. Vorstand \nChun Wha Krauthäuser \n  \n2. Vorstand \nDr. Tanja Köllmeier
URL:https://kreativer-kreis-allershausen.de/event/3193/
LOCATION:Bayern
CATEGORIES:Vereinssitzung
ATTACH;FMTTYPE=image/jpeg:https://kreativer-kreis-allershausen.de/wp-content/uploads/2022/02/26500810_etwas_bunter.jpg
ORGANIZER;CN="Kreativer Kreis Allershausen e.V.":MAILTO:kontakt@kreativer-kreis-allershausen.de
END:VEVENT
END:VCALENDAR